Workbook

Sheet 入力用
A1: ※データのまま提出すること （行、列の追加や高さ、幅の変更、文字サイズの変更禁止） ※漢字・カタカナは全角、英数字は半角で入力すること ※色付きセルは回答必須 （黄色セルはプルダウンより選択すること） ※すべてのセルの色が消えていることを確認してから提出すること
A2: 2027年度 医科医員（研修医）採用試験応募フォーム
A3: 試験日：2026年10月26日（月） 出願期間：2026年10月22日（木）～2026年10月23日（金）正午必着
A5: ◆氏名（漢字）➡ 姓と名の間は全角一文字空けてください。
A7: ◆氏名（フリガナ）➡ 姓と名の間は全角一文字空けてください。
A9: ◆性別
A11: ◆国籍
A13: ◆在留資格（国籍が日本以外の場合）
A15: ◆生年月日（西暦） | E15: 年 | I15: 月 | M15: 日
A17: ◆大学区分
A19: ◆所属大学または卒業大学名
A21: ◆卒業または卒業見込年月（西暦） | E21: 年 | I21: 月 | M21: ➡ 卒業月が「3月」以外の場合は修正してください。
A23: ◆地域枠 | D23: ➡ 自治体や大学等を相手方とした契約において、卒業後に指定された地域や病院での従事要件等が 課せられている場合は「○」を選択し、詳細を以下に記入してください。
A27: ◆現住所の郵便番号 | E27: － | J27: ➡採用にかかる重要書類を送付します。長期不在の期間がある場合は、 「◆その他の連絡事項」に不在期間と代わりの送付先を記載ください。
A29: ◆現住所の都道府県
A31: ◆現住所 | Q31: ➡ 市区町村～番地
Q32: ➡ マンション名・室番
A34: ◆携帯番号 | E34: － | I34: －
A36: ◆電話番号（固定電話がある場合） | E36: － | I36: －
A38: ◆メイン メールアドレス（必ず連絡が取れるアドレス）
A40: ◆サブ メールアドレス（メイン以外で連絡が取れるアドレス）
A42: ◆帰省先等郵便番号 | E42: － | I42: ➡ 現住所と帰省先等が同一の場合は不要
A44: ◆帰省先等住所の都道府県 | I44: ➡ 現住所と帰省先等が同一の場合は不要
A46: ◆帰省先等住所 | Q46: ➡ 市区町村～番地
A47: ➡ 現住所と帰省先等が同一の場合は「同上」と記入 | Q47: ➡ マンション名・室番
A49: ◆帰省先等電話番号 | E49: － | I49: － | M49: ➡ 現住所と帰省先等が同一の場合は不要
A51: ◆受験希望日 | B51: 46321 | H51: ※詳細は後日受験者に通知
A53: ◆希望順位 | B53: 第 | E53: 希望 | G53: 一般コース
A54: ➡ 研修プログラムは併願可能です。 希望しない場合は「－」を選択してください。 | B54: 第 | E54: 希望 | G54: たすきがけコース
B55: 第 | E55: 希望 | G55: 小児科医育成コース
B56: 第 | E56: 希望 | G56: 産婦人科医育成コース
A58: ◆学歴（学校名・学部名・学科名等） | D58: 年 | G58: 月 | H58: ～ | K58: 年 | N58: 月
A59: ➡「年」は「西暦」、医学部 卒業（見込）から高等学校まで 遡って記入してください。 例：2021年 4月～2027年3月 ▲▲大学医学部 2018年 4月～2021年3月 ●●高等学校普通科 | D59: 年 | G59: 月 | H59: ～ | K59: 年 | N59: 月
D60: 年 | G60: 月 | H60: ～ | K60: 年 | N60: 月
D61: 年 | G61: 月 | H61: ～ | K61: 年 | N61: 月
D62: 年 | G62: 月 | H62: ～ | K62: 年 | N62: 月
A64: ◆職歴（勤務先、職種等） | D64: 年 | G64: 月 | H64: ～ | K64: 年 | N64: 月
A65: ➡ 「年」は「西暦」、職歴がある場合のみ 直近順に記入してください。 アルバイトは不要。 例：2018年4月～2019年3月 株式会社□□ 事務員 | D65: 年 | G65: 月 | H65: ～ | K65: 年 | N65: 月
D66: 年 | G66: 月 | H66: ～ | K66: 年 | N66: 月
D67: 年 | G67: 月 | H67: ～ | K67: 年 | N67: 月
D68: 年 | G68: 月 | H68: ～ | K68: 年 | N68: 月
A70: ◆賞罰
A71: ➡ 「年」は「西暦」、賞罰がある場合のみ 記入してください。 例：2025年4月 第2回日本内科学会総会・講演会優秀演題賞
A74: ◆免許・資格等 | E74: 年 | I74: 月
A75: ➡ 「年」は「西暦」、免許・資格等がある場合のみ 記入してください。 ※普通自動車第一種免許等の運転免許は記載不要 | E75: 年 | I75: 月
E76: 年 | I76: 月
E77: 年 | I77: 月
E78: 年 | I78: 月
A80: ◆当院での研修を志望する理由を述べてください。（300字以内で改行せずに入力してください。) | R80: 文字数カウント➡ | V80: =LEN(SUBSTITUTE(A81, " ", "")) -> 0
A83: ◆自己PRを記入してください。（300字以内で改行せずに入力してください。) | R83: 文字数カウント➡ | V83: =LEN(SUBSTITUTE(A84, " ", "")) -> 0
A86: ◆その他連絡事項
A87: ➡ 氏名の漢字や試験当日に配慮が必要な事項等、事前に 伝えておくべきことがあれば記入してください。 居住地が遠方等の理由で面接試験の終了時間に配慮が 必要、車いすの使用等がある場合はご記入ください。
A91: ◆第121回医師国家試験の試験地・受験番号 | B91: 試験地： | K91: 受験番号：

Sheet データ管理用
A1: 回 | B1: 受験番号 | C1: 氏名 | D1: フリガナ | E1: 性別 | F1: 国籍 | G1: 在留資格 | H1: 大学 | I1: 卒年 | J1: 卒見 | K1: 生年月日 | L1: 年齢 | M1: 区分 | N1: 郵便番号 | O1: 都道府県 | P1: 住所1 | Q1: 住所2 | R1: 携帯番号 | S1: 電話番号 | T1: メイン メール | U1: サプ メール | V1: 帰郵便番号 | W1: 帰都道府県 | X1: 帰住所1 | Y1: 帰住所2 | Z1: 帰電話番号 | AA1: 受験希望日 | AB1: 順位一般 | AC1: 順位たすき | AD1: 順位小児 | AE1: 順位産科 | AF1: 学歴1 | AG1: 学歴入学1 | AH1: 学歴卒業1 | AI1: 学歴2 | AJ1: 学歴入学2 | AK1: 学歴卒業2 | AL1: 学歴3 | AM1: 学歴入学3 | AN1: 学歴卒業3 | AO1: 学歴4 | AP1: 学歴入学4 | AQ1: 学歴卒業4 | AR1: 学歴5 | AS1: 学歴入学5 | AT1: 学歴卒業5 | AU1: 職歴1 | AV1: 職歴入職1 | AW1: 職歴退職1 | AX1: 職歴2 | AY1: 職歴入職2 | AZ1: 職歴退職2 | BA1: 職歴3 | BB1: 職歴入職3 | BC1: 職歴退職3 | BD1: 職歴4 | BE1: 職歴入職4 | BF1: 職歴退職4 | BG1: 職歴5 | BH1: 職歴入職5 | BI1: 職歴退職5 | BJ1: 賞罰1 | BK1: 免許資格1 | BL1: 免許資格年月1 | BM1: 免許資格2 | BN1: 免許資格年月2 | BO1: 免許資格3 | BP1: 免許資格年月3 | BQ1: 免許資格4 | BR1: 免許資格年月4 | BS1: 免許資格5 | BT1: 免許資格年月5 | BU1: 地域枠 | BV1: 地域枠 詳細 | BW1: 志望動機① | BX1: 志望動機② | BY1: その他連絡事項
A2: =IF(C3="", "", IF(C3=B3, 4, 0)) | C2: =入力用!B5 -> 0 | D2: =入力用!B7 -> 0 | E2: =入力用!B9 -> 0 | F2: =入力用!B11 -> 0 | G2: =入力用!B13 -> 0 | H2: =入力用!B19 -> 0 | I2: =_xlfn.TEXTJOIN("",TRUE,入力用!B21:I21) -> 年月 | J2: =入力用!J21 -> 0 | K2: =入力用!B15&"/"&入力用!F15&"/"&入力用!J15 -> // | L2: =IF($A$3="","",DATEDIF($K2,$L$3,"Y")) -> #VALUE! | M2: =入力用!B17 -> 0 | N2: =_xlfn.TEXTJOIN("",TRUE,入力用!B27:H27) -> － | O2: =入力用!B29 -> 0 | P2: =入力用!B31 -> 0 | Q2: =入力用!B32 -> 0 | R2: =_xlfn.TEXTJOIN("",TRUE,入力用!B34:L34) -> －－ | S2: =_xlfn.TEXTJOIN("",TRUE,入力用!B36:L36) -> －－ | T2: =入力用!B38 -> 0 | U2: =入力用!B40 -> 0 | V2: =_xlfn.TEXTJOIN("",TRUE,入力用!B42:H42) -> － | W2: =入力用!B44 -> 0 | X2: =入力用!B46 -> 0 | Y2: =入力用!B47 -> 0 | Z2: =_xlfn.TEXTJOIN("",TRUE,入力用!B49:L49) -> －－ | AA2: =入力用!B51 -> 46321 | AB2: =入力用!C53 -> 0 | AC2: =入力用!C54 -> 0 | AD2: =入力用!C55 -> 0 | AE2: =入力用!C56 -> 0 | AF2: =入力用!O58 -> 0 | AG2: =入力用!B58&"/"&入力用!E58 -> / | AH2: =入力用!I58&"/"&入力用!L58 -> / | AI2: =入力用!O59 -> 0 | AJ2: =入力用!B59&"/"&入力用!E59 -> / | AK2: =入力用!I59&"/"&入力用!L59 -> / | AL2: =入力用!O60 -> 0 | AM2: =入力用!B60&"/"&入力用!E60 -> / | AN2: =入力用!I60&"/"&入力用!L60 -> / | AO2: =入力用!O61 -> 0 | AP2: =入力用!B61&"/"&入力用!E61 -> / | AQ2: =入力用!I61&"/"&入力用!L61 -> / | AR2: =入力用!O62 -> 0 | AS2: =入力用!B62&"/"&入力用!E62 -> / | AT2: =入力用!I62&"/"&入力用!L62 -> / | AU2: =入力用!O64 -> 0 | AV2: =入力用!B64&"/"&入力用!E64 -> / | AW2: =入力用!I64&"/"&入力用!L64 -> / | AX2: =入力用!O65 -> 0 | AY2: =入力用!B65&"/"&入力用!E65 -> / | AZ2: =入力用!I65&"/"&入力用!L65 -> / | BA2: =入力用!O66 -> 0 | BB2: =入力用!B66&"/"&入力用!E66 -> / | BC2: =入力用!I66&"/"&入力用!L66 -> / | BD2: =入力用!O67 -> 0 | BE2: =入力用!B67&"/"&入力用!E67 -> / | BF2: =入力用!I67&"/"&入力用!L67 -> / | BG2: =入力用!O68 -> 0 | BH2: =入力用!B68&"/"&入力用!E68 -> / | BI2: =入力用!I68&"/"&入力用!L68 -> / | BJ2: =入力用!B70 -> 0 | BK2: =入力用!J74 -> 0 | BL2: =入力用!B74&"/"&入力用!F74 -> / | BM2: =入力用!J75 -> 0 | BN2: =入力用!B75&"/"&入力用!F75 -> / | BO2: =入力用!J76 -> 0 | BP2: =入力用!B76&"/"&入力用!F76 -> / | BQ2: =入力用!J77 -> 0 | BR2: =入力用!B77&"/"&入力用!F77 -> / | BS2: =入力用!J78 -> 0 | BT2: =入力用!B78&"/"&入力用!F78 -> / | BU2: =入力用!B23 -> 0 | BV2: =入力用!D25 -> 0 | BW2: =入力用!A81 -> 0 | BX2: =入力用!A84 -> 0 | BY2: =入力用!B87 -> 0
A3: 2027 | L3: 46477
